BEGIN:VCALENDAR
VERSION:2.0
PRODID:-//wp-events-plugin.com//6.6.3//EN
TZID:Europe/Rome
X-WR-TIMEZONE:Europe/Rome
BEGIN:VEVENT
UID:0-14@upsantospirito.diocesitn.it
DTSTART;TZID=Europe/Rome:20230812T000000
DTEND;TZID=Europe/Rome:20230812T140000
DTSTAMP:20230729T083559Z
URL:https://upsantospirito.diocesitn.it/events/pellegrinaggio-basilica-di-
 sanzeno-madonna-di-senale/
SUMMARY:Pellegrinaggio Basilica di Sanzeno - Madonna di Senale
DESCRIPTION:
END:VEVENT
BEGIN:VTIMEZONE
TZID:Europe/Rome
X-LIC-LOCATION:Europe/Rome
BEGIN:DAYLIGHT
DTSTART:20230326T030000
TZOFFSETFROM:+0100
TZOFFSETTO:+0200
TZNAME:CEST
END:DAYLIGHT
END:VTIMEZONE
END:VCALENDAR