BEGIN:VCALENDAR
VERSION:2.0
PRODID:-//wp-events-plugin.com//6.6.3//EN
TZID:Europe/Rome
X-WR-TIMEZONE:Europe/Rome
BEGIN:VEVENT
UID:0-18@upsantospirito.diocesitn.it
DTSTART;TZID=Europe/Rome:20230903T140000
DTEND;TZID=Europe/Rome:20230903T160000
DTSTAMP:20230831T090631Z
URL:https://upsantospirito.diocesitn.it/events/festa-dei-santi-martiri-dom
 enica-3-settembre-2023/
SUMMARY:Festa dei Santi martiri\, domenica 3 settembre 2023
DESCRIPTION:Festa dei Santi martiri Sisino\, Martirio\, Alessandro nella Ba
 silica di Sanzeno domenica 3 settembre 2023 ore 14.00. Partecipano le parr
 occhie della zona pastorale Valli del  Noce.\n\n&nbsp\;\n\nLocandina Ss.M
 artiri 23
END:VEVENT
BEGIN:VTIMEZONE
TZID:Europe/Rome
X-LIC-LOCATION:Europe/Rome
BEGIN:DAYLIGHT
DTSTART:20230326T030000
TZOFFSETFROM:+0100
TZOFFSETTO:+0200
TZNAME:CEST
END:DAYLIGHT
END:VTIMEZONE
END:VCALENDAR