BEGIN:VCALENDAR
VERSION:2.0
PRODID:-//wp-events-plugin.com//6.6.3//EN
TZID:Europe/Rome
X-WR-TIMEZONE:Europe/Rome
BEGIN:VEVENT
UID:0-10@upsantospirito.diocesitn.it
DTSTART;TZID=Europe/Rome:20230728T194500
DTEND;TZID=Europe/Rome:20230728T220000
DTSTAMP:20230721T151704Z
URL:https://upsantospirito.diocesitn.it/events/camminata-della-trasfiguraz
 ione/
SUMMARY:Camminata della Trasfigurazione
DESCRIPTION:Camminata Trasfigurazione 28.7.2023 Rabbi
END:VEVENT
BEGIN:VTIMEZONE
TZID:Europe/Rome
X-LIC-LOCATION:Europe/Rome
BEGIN:DAYLIGHT
DTSTART:20230326T030000
TZOFFSETFROM:+0100
TZOFFSETTO:+0200
TZNAME:CEST
END:DAYLIGHT
END:VTIMEZONE
END:VCALENDAR