BEGIN:VCALENDAR
VERSION:2.0
PRODID:-//wp-events-plugin.com//6.6.3//EN
TZID:Europe/Rome
X-WR-TIMEZONE:Europe/Rome
BEGIN:VEVENT
UID:0-16@upsantospirito.diocesitn.it
DTSTART;TZID=Europe/Rome:20230914T080000
DTEND;TZID=Europe/Rome:20230914T200000
DTSTAMP:20230809T211945Z
URL:https://upsantospirito.diocesitn.it/events/810/
SUMMARY:Pellegrinaggio a Pietralba
DESCRIPTION:[rl_gallery id="794"][rl_gallery id="794"]
END:VEVENT
BEGIN:VTIMEZONE
TZID:Europe/Rome
X-LIC-LOCATION:Europe/Rome
BEGIN:DAYLIGHT
DTSTART:20230326T030000
TZOFFSETFROM:+0100
TZOFFSETTO:+0200
TZNAME:CEST
END:DAYLIGHT
END:VTIMEZONE
END:VCALENDAR