BEGIN:VCALENDAR
VERSION:2.0
PRODID:-//wp-events-plugin.com//6.6.3//EN
TZID:Europe/Rome
X-WR-TIMEZONE:Europe/Rome
BEGIN:VEVENT
UID:0-12@upsantospirito.diocesitn.it
DTSTART;TZID=Europe/Rome:20230803T203000
DTEND;TZID=Europe/Rome:20230803T213000
DTSTAMP:20230721T153522Z
URL:https://upsantospirito.diocesitn.it/events/763/
SUMMARY:Con gli occhi di Dio. Veglia adorazione eucaristica vocazionale
DESCRIPTION:Con gli occhi di Dio Adorazione eucaristica guidata da don Clau
 dio Ferrari\, vicario generale della Diocesi di Trento\, per accompagnare 
 i giovani che stanno partecipando alla GMG e tutti i giovani nelle scelte 
 vocazionali. Chiesa parrocchiale di Cles ore 20.30
END:VEVENT
BEGIN:VTIMEZONE
TZID:Europe/Rome
X-LIC-LOCATION:Europe/Rome
BEGIN:DAYLIGHT
DTSTART:20230326T030000
TZOFFSETFROM:+0100
TZOFFSETTO:+0200
TZNAME:CEST
END:DAYLIGHT
END:VTIMEZONE
END:VCALENDAR