BEGIN:VCALENDAR
VERSION:2.0
PRODID:-//wp-events-plugin.com//6.6.3//EN
TZID:Europe/Rome
X-WR-TIMEZONE:Europe/Rome
BEGIN:VEVENT
UID:0-11@upsantospirito.diocesitn.it
DTSTART;TZID=Europe/Rome:20230730T113000
DTEND;TZID=Europe/Rome:20230730T180000
DTSTAMP:20230721T152724Z
URL:https://upsantospirito.diocesitn.it/events/760/
SUMMARY:Festa dell'Amicizia anziani e malati 30.7.2023
DESCRIPTION:Festa dell'Amicizia malati e anziani 30.7.2023
END:VEVENT
BEGIN:VTIMEZONE
TZID:Europe/Rome
X-LIC-LOCATION:Europe/Rome
BEGIN:DAYLIGHT
DTSTART:20230326T030000
TZOFFSETFROM:+0100
TZOFFSETTO:+0200
TZNAME:CEST
END:DAYLIGHT
END:VTIMEZONE
END:VCALENDAR