BEGIN:VCALENDAR
VERSION:2.0
PRODID:-//wp-events-plugin.com//6.6.3//EN
TZID:Europe/Rome
X-WR-TIMEZONE:Europe/Rome
BEGIN:VEVENT
UID:0-23@upsantospirito.diocesitn.it
DTSTART;TZID=Europe/Rome;VALUE=DATE:20231026
DTEND;TZID=Europe/Rome;VALUE=DATE:20231030
DTSTAMP:20231012T085046Z
URL:https://upsantospirito.diocesitn.it/events/71-corso-donne-cursillo-di-
 cristianita-trento/
SUMMARY:71° corso donne Cursillo di cristianità Trento
DESCRIPTION:
END:VEVENT
BEGIN:VTIMEZONE
TZID:Europe/Rome
X-LIC-LOCATION:Europe/Rome
BEGIN:DAYLIGHT
DTSTART:20230326T030000
TZOFFSETFROM:+0100
TZOFFSETTO:+0200
TZNAME:CEST
END:DAYLIGHT
BEGIN:STANDARD
DTSTART:20231029T020000
TZOFFSETFROM:+0200
TZOFFSETTO:+0100
TZNAME:CET
END:STANDARD
END:VTIMEZONE
END:VCALENDAR