BEGIN:VCALENDAR
VERSION:2.0
PRODID:-//wp-events-plugin.com//6.6.3//EN
TZID:Europe/Rome
X-WR-TIMEZONE:Europe/Rome
BEGIN:VEVENT
UID:0-9@upsantospirito.diocesitn.it
DTSTART;TZID=Europe/Rome:20230625T110000
DTEND;TZID=Europe/Rome:20230625T140000
DTSTAMP:20230617T131059Z
URL:https://upsantospirito.diocesitn.it/events/681/
SUMMARY:Festa a San Antonio al Monte 25.6.2023
DESCRIPTION:
END:VEVENT
BEGIN:VTIMEZONE
TZID:Europe/Rome
X-LIC-LOCATION:Europe/Rome
BEGIN:DAYLIGHT
DTSTART:20230326T030000
TZOFFSETFROM:+0100
TZOFFSETTO:+0200
TZNAME:CEST
END:DAYLIGHT
END:VTIMEZONE
END:VCALENDAR