BEGIN:VCALENDAR
VERSION:2.0
PRODID:-//wp-events-plugin.com//6.6.3//EN
TZID:Europe/Rome
X-WR-TIMEZONE:Europe/Rome
BEGIN:VEVENT
UID:0-8@upsantospirito.diocesitn.it
DTSTART;TZID=Europe/Rome:20230608T000000
DTEND;TZID=Europe/Rome:20230818T000000
DTSTAMP:20230610T081358Z
URL:https://upsantospirito.diocesitn.it/events/500-anni-della-chiesa-di-s-
 maria-assunta-giugno-agosto-2023/
SUMMARY:500 anni della Chiesa di S. Maria Assunta Giugno - Agosto 2023
DESCRIPTION:
END:VEVENT
BEGIN:VTIMEZONE
TZID:Europe/Rome
X-LIC-LOCATION:Europe/Rome
BEGIN:DAYLIGHT
DTSTART:20230326T030000
TZOFFSETFROM:+0100
TZOFFSETTO:+0200
TZNAME:CEST
END:DAYLIGHT
END:VTIMEZONE
END:VCALENDAR